BEGIN:VCALENDAR
VERSION:2.0
PRODID:-//СофтУни БУДИТЕЛ - ECPv6.15.13//NONSGML v1.0//EN
CALSCALE:GREGORIAN
METHOD:PUBLISH
X-WR-CALNAME:СофтУни БУДИТЕЛ
X-ORIGINAL-URL:https://buditel.softuni.bg
X-WR-CALDESC:Събития за СофтУни БУДИТЕЛ
REFRESH-INTERVAL;VALUE=DURATION:PT1H
X-Robots-Tag:noindex
X-PUBLISHED-TTL:PT1H
BEGIN:VTIMEZONE
TZID:Europe/Sofia
BEGIN:DAYLIGHT
TZOFFSETFROM:+0200
TZOFFSETTO:+0300
TZNAME:EEST
DTSTART:20240331T010000
END:DAYLIGHT
BEGIN:STANDARD
TZOFFSETFROM:+0300
TZOFFSETTO:+0200
TZNAME:EET
DTSTART:20241027T010000
END:STANDARD
BEGIN:DAYLIGHT
TZOFFSETFROM:+0200
TZOFFSETTO:+0300
TZNAME:EEST
DTSTART:20250330T010000
END:DAYLIGHT
BEGIN:STANDARD
TZOFFSETFROM:+0300
TZOFFSETTO:+0200
TZNAME:EET
DTSTART:20251026T010000
END:STANDARD
BEGIN:DAYLIGHT
TZOFFSETFROM:+0200
TZOFFSETTO:+0300
TZNAME:EEST
DTSTART:20260329T010000
END:DAYLIGHT
BEGIN:STANDARD
TZOFFSETFROM:+0300
TZOFFSETTO:+0200
TZNAME:EET
DTSTART:20261025T010000
END:STANDARD
END:VTIMEZONE
BEGIN:VEVENT
DTSTART;VALUE=DATE:20251031
DTEND;VALUE=DATE:20251104
DTSTAMP:20260425T135147
CREATED:20251014T154024Z
LAST-MODIFIED:20251014T154024Z
UID:10000008-1761868800-1762214399@buditel.softuni.bg
SUMMARY:Есенна ваканция
DESCRIPTION:
URL:https://buditel.softuni.bg/calendar/esenna-vakancia-25/
LOCATION:База Младост
CATEGORIES:Ваканции,Родители,Ученици,Учители
END:VEVENT
BEGIN:VEVENT
DTSTART;TZID=Europe/Sofia:20251025T090000
DTEND;TZID=Europe/Sofia:20251025T120000
DTSTAMP:20260425T135147
CREATED:20251015T104626Z
LAST-MODIFIED:20251023T095333Z
UID:10000014-1761382800-1761393600@buditel.softuni.bg
SUMMARY:STEM Saturday led by Prof. Ed Moriarty - a professor at MIT\, head of the Engineering Design Workshop
DESCRIPTION:Здравейте! \nИмаме удоволствието да ви поканим на STEM Saturday – събитие за забавната и интерактивна страна на образованието. Като за събота сутрин ще прекрачим границите на конвенционалното и ще се потопим в свят\, в който науката е hands-on преживяване. \nЗаповядайте на научната работилница за деца и възрастни в събота сутрин! \nСъбитието ще бъде водено от Ед Мориарти – преподавател в MIT – Масачузетския технологичен институт\, ръководител на уъркшоп за инженерен дизайн за гимназисти и студенти и обучител на учители в цял свят. \nПовече за него има във видеото: https://www.youtube.com/watch?v=nLG3-9oeMOQ\nИ статията: https://www.technologyreview.com/2023/08/22/1076988/edgerton-center-instructor-takes-mens-et-manus-mindset-on-the-road/ \n\nКога – 25.10.2025 г. (събота)\, 09:00-12:00ч.\nКъде – ЧПГДН СофтУни БУДИТЕЛ – база Младост\, адрес – бул. „Александър Малинов“ №78\n\nСъбитието е безплатно\, но изисква предварителна регистрация. \nРаботилницата ще се проведе на английски език.\nСлед направена регистрация\, 3 дни преди събитието ще получите имейл с логистични детайли. \nОчакваме ви!
URL:https://buditel.softuni.bg/calendar/stem-saturday-led-by-prof-ed-moriarty-a-professor-at-mit-head-of-the-engineering-design-workshop/
LOCATION:База Младост
CATEGORIES:Отворени,Родители,Ученици,Учители
ATTACH;FMTTYPE=image/webp:https://buditel.softuni.bg/wp-content/uploads/2025/10/fb-event-cover-mit-68f8f9b3e662c.webp
END:VEVENT
END:VCALENDAR