BEGIN:VCALENDAR
VERSION:2.0
PRODID:-//СофтУни БУДИТЕЛ - ECPv6.15.13//NONSGML v1.0//EN
CALSCALE:GREGORIAN
METHOD:PUBLISH
X-ORIGINAL-URL:https://buditel.softuni.bg
X-WR-CALDESC:Събития за СофтУни БУДИТЕЛ
REFRESH-INTERVAL;VALUE=DURATION:PT1H
X-Robots-Tag:noindex
X-PUBLISHED-TTL:PT1H
BEGIN:VTIMEZONE
TZID:Europe/Sofia
BEGIN:DAYLIGHT
TZOFFSETFROM:+0200
TZOFFSETTO:+0300
TZNAME:EEST
DTSTART:20250330T010000
END:DAYLIGHT
BEGIN:STANDARD
TZOFFSETFROM:+0300
TZOFFSETTO:+0200
TZNAME:EET
DTSTART:20251026T010000
END:STANDARD
BEGIN:DAYLIGHT
TZOFFSETFROM:+0200
TZOFFSETTO:+0300
TZNAME:EEST
DTSTART:20260329T010000
END:DAYLIGHT
BEGIN:STANDARD
TZOFFSETFROM:+0300
TZOFFSETTO:+0200
TZNAME:EET
DTSTART:20261025T010000
END:STANDARD
BEGIN:DAYLIGHT
TZOFFSETFROM:+0200
TZOFFSETTO:+0300
TZNAME:EEST
DTSTART:20270328T010000
END:DAYLIGHT
BEGIN:STANDARD
TZOFFSETFROM:+0300
TZOFFSETTO:+0200
TZNAME:EET
DTSTART:20271031T010000
END:STANDARD
END:VTIMEZONE
BEGIN:VEVENT
DTSTART;TZID=Europe/Sofia:20260314T100000
DTEND;TZID=Europe/Sofia:20260315T123000
DTSTAMP:20260425T135210
CREATED:20260119T101018Z
LAST-MODIFIED:20260120T152615Z
UID:10000018-1773482400-1773577800@buditel.softuni.bg
SUMMARY:СофтУниада ТИЙНС 2026
DESCRIPTION:
URL:https://buditel.softuni.bg/calendar/softuniada-teens-2026/
CATEGORIES:Родители,Ученици,Учители
END:VEVENT
BEGIN:VEVENT
DTSTART;TZID=Europe/Sofia:20260429T090000
DTEND;TZID=Europe/Sofia:20260429T133000
DTSTAMP:20260425T135210
CREATED:20260421T082337Z
LAST-MODIFIED:20260421T084414Z
UID:10000023-1777453200-1777469400@buditel.softuni.bg
SUMMARY:Кариерен форум "Будителски компас 2026"
DESCRIPTION:Заповядайте на Кариерния ни форум\, който ще се проведе на 29.04\, е събитие\, което събира на едно място ученици\, водещи работодатели и представители на университети\, с цел подпомагане на информирания избор за бъдещо образование и кариерно развитие. \nСъбитието се организира от екипа на СофтУни Будител и ще се проведе в база „Младост“. Форматът на форума е интерактивен и предоставя възможност за директни срещи и разговори с утвърдени професионалисти и представители на академичните среди
URL:https://buditel.softuni.bg/calendar/%d0%ba%d0%b0%d1%80%d0%b8%d0%b5%d1%80%d0%b5%d0%bd-%d1%84%d0%be%d1%80%d1%83%d0%bc-2026/
CATEGORIES:Родители,Ученици,Учители
END:VEVENT
BEGIN:VEVENT
DTSTART;VALUE=DATE:20260630
DTEND;VALUE=DATE:20260701
DTSTAMP:20260425T135210
CREATED:20251014T155805Z
LAST-MODIFIED:20251014T155805Z
UID:10000013-1782777600-1782863999@buditel.softuni.bg
SUMMARY:STEM LInguia Fest
DESCRIPTION:
URL:https://buditel.softuni.bg/calendar/stem-linguia-fest/
CATEGORIES:Родители,Ученици,Учители
END:VEVENT
END:VCALENDAR